BEGIN:VCALENDAR
PRODID:-//Hannon Hill Events//Cascade CMS//EN
VERSION:2.0
X-WR-CALNAME:Gutenburg! The Musical!
X-WR-TIMEZONE:America/New_York
BEGIN:VTIMEZONE
TZID:America/New_York
BEGIN:DAYLIGHT
TZOFFSETFROM:-0500
TZOFFSETTO:-0400
TZNAME:EDT
DTSTART:19700308T020000
RRULE:FREQ=YEARLY;BYMONTH=3;BYDAY=2SU
END:DAYLIGHT
BEGIN:STANDARD
TZOFFSETFROM:-0400
TZOFFSETTO:-0500
TZNAME:EST
DTSTART:19701101T020000
RRULE:FREQ=YEARLY;BYMONTH=11;BYDAY=1SU
END:STANDARD
END:VTIMEZONE
BEGIN:VEVENT
DTSTART:20260503T190000
DTEND:20260503T210000
DTSTAMP:20260421T030130
UID:abdc85cb0a00002b3a26303c20f79150
CREATED:20260420T130729
DESCRIPTION:BW music theatre juniors Gabriel Hill and Caleb Smith star in  this hilarious musical comedy.
LAST-MODIFIED:20260420T131757
SEQUENCE:0
STATUS:CONFIRMED
SUMMARY:Gutenburg! The Musical!
TRANSP:OPAQUE
END:VEVENT
END:VCALENDAR
